BEGIN:VCALENDAR
VERSION:2.0
PRODID:-//Tukios.com/
BEGIN:VEVENT
UID:780c3da4-9c0c-4fd2-bd6d-32d268029ca2@www.rogers-watkins.com
DTSTAMP:20260419T222225Z
DTSTART:20260425T150000Z
DTEND:20260425T160000Z
SUMMARY:Funeral Service
DESCRIPTION:
URL:https://www.rogers-watkins.com/obituaries/robin-pierce
LOCATION: 1821 Saint Paul Road  Leitchfield KY 42754
GEO:37.5499432;-86.1885165
END:VEVENT
END:VCALENDAR