BEGIN:VCALENDAR
VERSION:2.0
PRODID:-//Tukios.com/
BEGIN:VEVENT
UID:fb0b6610-dba9-481c-a6ea-5bc2d0ca0dfe@www.rogers-watkins.com
DTSTAMP:20260419T222015Z
DTSTART:20260424T230000Z
DTEND:20260425T000000Z
SUMMARY:Prayer Service
DESCRIPTION:
URL:https://www.rogers-watkins.com/obituaries/robin-pierce
LOCATION: 115 W Main St  Clarkson KY 42726
GEO:37.4949223;-86.2258676
END:VEVENT
END:VCALENDAR