BEGIN:VCALENDAR
VERSION:2.0
PRODID:-//Tukios.com/
BEGIN:VEVENT
UID:f115b783-7540-4506-9a91-da5ca1788374@www.rogers-watkins.com
DTSTAMP:20260419T222220Z
DTSTART:20260424T170000Z
DTEND:20260425T010000Z
SUMMARY:Visitation
DESCRIPTION:
URL:https://www.rogers-watkins.com/obituaries/robin-pierce
LOCATION: 115 W Main St  Clarkson KY 42726
GEO:37.4949223;-86.2258676
END:VEVENT
END:VCALENDAR