BEGIN:VCALENDAR
VERSION:2.0
PRODID:-//Tukios.com/
BEGIN:VEVENT
UID:15ceebac-8b7a-40a9-b071-29f226e82b87@www.rogers-watkins.com
DTSTAMP:20260420T013441Z
DTSTART:20260422T170000Z
DTEND:20260422T180000Z
SUMMARY:Funeral Service
DESCRIPTION:
URL:https://www.rogers-watkins.com/obituaries/nancy-hill
LOCATION: 115 W Main St  Clarkson KY 42726
GEO:37.4949223;-86.2258676
END:VEVENT
END:VCALENDAR