BEGIN:VCALENDAR
VERSION:2.0
PRODID:-//Tukios.com/
BEGIN:VEVENT
UID:ac956370-50b0-4b49-9d71-263f24091b19@www.rogers-watkins.com
DTSTAMP:20260420T013455Z
DTSTART:20260422T140000Z
DTEND:20260422T170000Z
SUMMARY:Visitation
DESCRIPTION:
URL:https://www.rogers-watkins.com/obituaries/nancy-hill
LOCATION: 115 W Main St  Clarkson KY 42726
GEO:37.4949223;-86.2258676
END:VEVENT
END:VCALENDAR