BEGIN:VCALENDAR
VERSION:2.0
PRODID:-//Tukios.com/
BEGIN:VEVENT
UID:91ed98dc-7454-4d5d-9df0-449219dd0548@www.rogers-watkins.com
DTSTAMP:20260420T013502Z
DTSTART:20260421T190000Z
DTEND:20260422T010000Z
SUMMARY:Visitation
DESCRIPTION:
URL:https://www.rogers-watkins.com/obituaries/nancy-hill
LOCATION: 115 W Main St  Clarkson KY 42726
GEO:37.4949223;-86.2258676
END:VEVENT
END:VCALENDAR